BEGIN:VCALENDAR
VERSION:2.0
PRODID:-//Blasmusikverein Essenbach - ECPv6.15.20//NONSGML v1.0//EN
CALSCALE:GREGORIAN
METHOD:PUBLISH
X-WR-CALNAME:Blasmusikverein Essenbach
X-ORIGINAL-URL:https://www.blasmusikverein-essenbach.de
X-WR-CALDESC:Veranstaltungen für Blasmusikverein Essenbach
REFRESH-INTERVAL;VALUE=DURATION:PT1H
X-Robots-Tag:noindex
X-PUBLISHED-TTL:PT1H
BEGIN:VTIMEZONE
TZID:Europe/Berlin
BEGIN:DAYLIGHT
TZOFFSETFROM:+0100
TZOFFSETTO:+0200
TZNAME:CEST
DTSTART:20250330T010000
END:DAYLIGHT
BEGIN:STANDARD
TZOFFSETFROM:+0200
TZOFFSETTO:+0100
TZNAME:CET
DTSTART:20251026T010000
END:STANDARD
BEGIN:DAYLIGHT
TZOFFSETFROM:+0100
TZOFFSETTO:+0200
TZNAME:CEST
DTSTART:20260329T010000
END:DAYLIGHT
BEGIN:STANDARD
TZOFFSETFROM:+0200
TZOFFSETTO:+0100
TZNAME:CET
DTSTART:20261025T010000
END:STANDARD
BEGIN:DAYLIGHT
TZOFFSETFROM:+0100
TZOFFSETTO:+0200
TZNAME:CEST
DTSTART:20270328T010000
END:DAYLIGHT
BEGIN:STANDARD
TZOFFSETFROM:+0200
TZOFFSETTO:+0100
TZNAME:CET
DTSTART:20271031T010000
END:STANDARD
END:VTIMEZONE
BEGIN:VEVENT
DTSTART;TZID=Europe/Berlin:20260425T180000
DTEND;TZID=Europe/Berlin:20260425T210000
DTSTAMP:20260421T120113
CREATED:20260206T070108Z
LAST-MODIFIED:20260206T070108Z
UID:984-1777140000-1777150800@www.blasmusikverein-essenbach.de
SUMMARY:Jubiläumskonzert mit Blaskapelle Kirchheim
DESCRIPTION:
URL:https://www.blasmusikverein-essenbach.de/event/jubilaeumskonzert-mit-blaskapelle-kirchheim/
LOCATION:Eskara\, Savigneux-Platz 4\, Essenbach\, 84051
CATEGORIES:Konzert
END:VEVENT
BEGIN:VEVENT
DTSTART;TZID=Europe/Berlin:20260503T080000
DTEND;TZID=Europe/Berlin:20260503T160000
DTSTAMP:20260421T120113
CREATED:20260206T070221Z
LAST-MODIFIED:20260206T070221Z
UID:986-1777795200-1777824000@www.blasmusikverein-essenbach.de
SUMMARY:Fahnenweihe Feuerwehr Mettenbach
DESCRIPTION:
URL:https://www.blasmusikverein-essenbach.de/event/fahnenweihe-feuerwehr-mettenbach/
LOCATION:Mettenbach\, Mettenbach\, 84051
CATEGORIES:Fahnenweihe
END:VEVENT
BEGIN:VEVENT
DTSTART;TZID=Europe/Berlin:20260516T180000
DTEND;TZID=Europe/Berlin:20260516T200000
DTSTAMP:20260421T120113
CREATED:20260206T070429Z
LAST-MODIFIED:20260206T070429Z
UID:990-1778954400-1778961600@www.blasmusikverein-essenbach.de
SUMMARY:Konzert in Kirchheim
DESCRIPTION:
URL:https://www.blasmusikverein-essenbach.de/event/konzert-in-kirchheim/
LOCATION:Kirchheim bei München\, Kirchheim bei München
CATEGORIES:Konzert
END:VEVENT
BEGIN:VEVENT
DTSTART;TZID=Europe/Berlin:20260607T180000
DTEND;TZID=Europe/Berlin:20260607T210000
DTSTAMP:20260421T120113
CREATED:20260206T070557Z
LAST-MODIFIED:20260206T070606Z
UID:995-1780855200-1780866000@www.blasmusikverein-essenbach.de
SUMMARY:Abschlusskonzert der Bläserklassen
DESCRIPTION:
URL:https://www.blasmusikverein-essenbach.de/event/abschlusskonzert-der-blaeserklassen/
LOCATION:Eskara\, Savigneux-Platz 4\, Essenbach\, 84051
CATEGORIES:Konzert
END:VEVENT
BEGIN:VEVENT
DTSTART;TZID=Europe/Berlin:20260626T171500
DTEND;TZID=Europe/Berlin:20260626T200000
DTSTAMP:20260421T120113
CREATED:20260206T070520Z
LAST-MODIFIED:20260206T070520Z
UID:993-1782494100-1782504000@www.blasmusikverein-essenbach.de
SUMMARY:Bieranstich Volksfest Essenbach
DESCRIPTION:
URL:https://www.blasmusikverein-essenbach.de/event/bieranstich-volksfest-essenbach/
CATEGORIES:Auftritt
END:VEVENT
BEGIN:VEVENT
DTSTART;TZID=Europe/Berlin:20260714T180000
DTEND;TZID=Europe/Berlin:20260714T220000
DTSTAMP:20260421T120113
CREATED:20260206T070659Z
LAST-MODIFIED:20260206T070729Z
UID:997-1784052000-1784066400@www.blasmusikverein-essenbach.de
SUMMARY:Biergarten Wolfgangsberg
DESCRIPTION:
URL:https://www.blasmusikverein-essenbach.de/event/biergarten-wolfgangsberg/
LOCATION:Wolfgangsberg\, Wolfgangsberg\, Essenbach\, 84051
CATEGORIES:Auftritt
END:VEVENT
BEGIN:VEVENT
DTSTART;TZID=Europe/Berlin:20260721T180000
DTEND;TZID=Europe/Berlin:20260721T210000
DTSTAMP:20260421T120113
CREATED:20260206T071019Z
LAST-MODIFIED:20260206T071019Z
UID:1001-1784656800-1784667600@www.blasmusikverein-essenbach.de
SUMMARY:Biergarten Großwirt
DESCRIPTION:
URL:https://www.blasmusikverein-essenbach.de/event/biergarten-grosswirt/
LOCATION:Großwirt\, Großwirt\, Mirskofen\, 84051
CATEGORIES:Auftritt
END:VEVENT
END:VCALENDAR